BEGIN:VCALENDAR
VERSION:2.0
PRODID:-//AudioTheme 2.3.8
BEGIN:VEVENT
UID:urn:uuid:d66adcbf-505f-40bc-8f81-69a56f32b3eb
URL:https://mitchmcvicker.com/concerts/gig-4456/
DTSTART;TZID=GMT:20220810T010000
SUMMARY:Calvary Sevier Valley
LOCATION:Calvary Sevier Valley\, 130 N Main St\, Richfield\, UT
END:VEVENT
END:VCALENDAR
