BEGIN:VCALENDAR
VERSION:2.0
PRODID:-//AudioTheme 2.3.8
BEGIN:VEVENT
UID:urn:uuid:fa4b6977-a882-48a3-9bf3-a48b178cb620
URL:https://mitchmcvicker.com/concerts/gig-4454/
DTSTART;TZID=GMT:20220809T010000
SUMMARY:New Life Church
LOCATION:New Life Church\, 5194 N Hwy 6\, Helper\, UT
END:VEVENT
END:VCALENDAR
