BEGIN:VCALENDAR
VERSION:2.0
PRODID:-//AudioTheme 2.3.8
BEGIN:VEVENT
UID:urn:uuid:5f1544e4-5876-425e-859f-a27d1b6807f7
URL:https://mitchmcvicker.com/concerts/gig-4453/
DTSTART;TZID=GMT:20220808T003000
SUMMARY:Connection Church
LOCATION:Connection Church\, 2938 North Ave.\, Grand Junction\, CO\, USA
END:VEVENT
END:VCALENDAR
