BEGIN:VCALENDAR
VERSION:2.0
PRODID:-//AudioTheme 2.3.8
BEGIN:VEVENT
UID:urn:uuid:7e46cf96-6861-4072-8019-17d3eaa8d50a
URL:https://mitchmcvicker.com/concerts/gig-4452/
DTSTART;TZID=GMT:20220731T131500
SUMMARY:Andover Christian Church
LOCATION:Andover Christian Church\, 150 Stillman Ave\, Andover\, OH
END:VEVENT
END:VCALENDAR
