BEGIN:VCALENDAR
VERSION:2.0
PRODID:-//AudioTheme 2.3.8
BEGIN:VEVENT
UID:urn:uuid:9667b54b-fdb4-45bc-94d2-b3462282abef
URL:https://mitchmcvicker.com/concerts/gig-4450/
DTSTART;TZID=GMT:20220730T200000
SUMMARY:Project 4 Hope
LOCATION:Project 4 Hope\, 1051 N Jackson Pike (Community Fellowship Church)\, Union City\, IN
END:VEVENT
END:VCALENDAR
