BEGIN:VCALENDAR
VERSION:2.0
PRODID:-//AudioTheme 2.3.8
BEGIN:VEVENT
UID:urn:uuid:0f2fc7fe-27ea-45f8-aa9d-c9e8f8e9cde0
URL:https://mitchmcvicker.com/concerts/gig-4448/
DTSTART;TZID=GMT:20220718T000000
SUMMARY:River Church
LOCATION:River Church\, 220 S. Yarrow St\, Lakewood\, CO
END:VEVENT
END:VCALENDAR
