BEGIN:VCALENDAR
VERSION:2.0
PRODID:-//AudioTheme 2.3.8
BEGIN:VEVENT
UID:urn:uuid:bccda4ab-5999-4aa3-9d1b-4caeed794066
URL:https://mitchmcvicker.com/concerts/gig-4447/
DTSTART;TZID=GMT:20220717T010000
SUMMARY:Southside Bible Church
LOCATION:Southside Bible Church\, 7050 S. Tucson Way\, Centennial\, CO
END:VEVENT
END:VCALENDAR
