BEGIN:VCALENDAR
VERSION:2.0
PRODID:-//AudioTheme 2.3.8
BEGIN:VEVENT
UID:urn:uuid:590e09f6-e44c-4bd5-8c21-8198a659e6da
URL:https://mitchmcvicker.com/concerts/gig-4445/
DTSTART;TZID=GMT:20220716T010000
SUMMARY:An Extremely Secretive Mysterious Goodtime Place
LOCATION:An Extremely Secretive Mysterious Goodtime Place\, Aurora\, CO
END:VEVENT
END:VCALENDAR
