BEGIN:VCALENDAR
VERSION:2.0
PRODID:-//AudioTheme 2.3.8
BEGIN:VEVENT
UID:urn:uuid:adce702f-3289-44a3-8e1e-5fcbed92639c
URL:https://mitchmcvicker.com/concerts/gig-4442/
DTSTART;TZID=GMT:20220714T000000
SUMMARY:Northwest Christian Church
LOCATION:Northwest Christian Church\, 505 W Highway 7\, Alta\, IA
END:VEVENT
END:VCALENDAR
