BEGIN:VCALENDAR
VERSION:2.0
PRODID:-//AudioTheme 2.3.8
BEGIN:VEVENT
UID:urn:uuid:84abaa23-96b1-42f4-b74e-53c540e1bf17
URL:https://mitchmcvicker.com/concerts/gig-4441/
DTSTART;TZID=GMT:20220713T000000
SUMMARY:Fox River Lutheran Church
LOCATION:Fox River Lutheran Church\, 2785 E. US 52\, Sheridan\, IL\, 60551
END:VEVENT
END:VCALENDAR
