BEGIN:VCALENDAR
VERSION:2.0
PRODID:-//AudioTheme 2.3.8
BEGIN:VEVENT
UID:urn:uuid:85987637-5bf9-4b56-8dd5-66fe42e997db
URL:https://mitchmcvicker.com/concerts/gig-4439/
DTSTART;TZID=GMT:20220709T200000
SUMMARY:Athens Fairgrounds - Benefit for New Hope Women's Shelter - Open to Public
LOCATION:Athens Fairgrounds - Benefit for New Hope Women's Shelter - Open to Public\, Athens\, ME
END:VEVENT
END:VCALENDAR
