BEGIN:VCALENDAR
VERSION:2.0
PRODID:-//AudioTheme 2.3.8
BEGIN:VEVENT
UID:urn:uuid:c952e007-8616-4930-b07d-b0adad6e0413
URL:https://mitchmcvicker.com/concerts/gig-4437/
DTSTART;TZID=GMT:20220708T230000
SUMMARY:Coventry Church of the Brethren
LOCATION:Coventry Church of the Brethren\, 946 Keen Rd\, Pottstown\, PA
END:VEVENT
END:VCALENDAR
