BEGIN:VCALENDAR
VERSION:2.0
PRODID:-//AudioTheme 2.3.8
BEGIN:VEVENT
UID:urn:uuid:7f718592-80db-4a4d-a2d5-66db72c40dca
URL:https://mitchmcvicker.com/concerts/gig-4434/
DTSTART;TZID=GMT:20220626T230000
SUMMARY:Stonebridge Community Church
LOCATION:Stonebridge Community Church\, 105 E Green St\, Piqua\, OH
END:VEVENT
END:VCALENDAR
