BEGIN:VCALENDAR
VERSION:2.0
PRODID:-//AudioTheme 2.3.8
BEGIN:VEVENT
UID:urn:uuid:1f9dd05e-2373-4604-9622-4dcc30320e66
URL:https://mitchmcvicker.com/concerts/gig-4432/
DTSTART;TZID=GMT:20220625T230000
SUMMARY:Rotary Performing Arts Pavilion - Hosted by Tustin First Baptist Church
LOCATION:Rotary Performing Arts Pavilion - Hosted by Tustin First Baptist Church\, 100 S Lake St\, Cadillac\, MI
END:VEVENT
END:VCALENDAR
