BEGIN:VCALENDAR
VERSION:2.0
PRODID:-//AudioTheme 2.3.8
BEGIN:VEVENT
UID:urn:uuid:7c3f3559-a157-415b-904a-6eacd418741b
URL:https://mitchmcvicker.com/concerts/gig-4430/
DTSTART;TZID=GMT:20220625T000000
SUMMARY:River Shores Church
LOCATION:River Shores Church\, 253 S Church St\, Berlin\, WI
END:VEVENT
END:VCALENDAR
