BEGIN:VCALENDAR
VERSION:2.0
PRODID:-//AudioTheme 2.3.8
BEGIN:VEVENT
UID:urn:uuid:2363f035-098f-4af6-88fd-59d7c19d5710
URL:https://mitchmcvicker.com/concerts/gig-4427/
DTSTART;TZID=GMT:20220612T233000
SUMMARY:Countryside Church
LOCATION:Countryside Church\, 301 Green St\, Merrillan\, WI
END:VEVENT
END:VCALENDAR
