BEGIN:VCALENDAR
VERSION:2.0
PRODID:-//AudioTheme 2.3.8
BEGIN:VEVENT
UID:urn:uuid:ba7fc2ac-4200-436f-9c0f-4bfdaafc8826
URL:https://mitchmcvicker.com/concerts/gig-4425/
DTSTART;TZID=GMT:20220612T150000
SUMMARY:Metro Believers Church
LOCATION:Metro Believers Church\, 575 D’Onofrio Dr.\, Madison\, WI
END:VEVENT
END:VCALENDAR
