BEGIN:VCALENDAR
VERSION:2.0
PRODID:-//AudioTheme 2.3.8
BEGIN:VEVENT
UID:urn:uuid:27efa6f0-17fd-4615-a839-8d7cc78f9ccb
URL:https://mitchmcvicker.com/concerts/gig-4423/
DTSTART;TZID=GMT:20220611T150000
SUMMARY:Downtown Arts Festival
LOCATION:Downtown Arts Festival\, North 1st Street\, Black River Falls\, WI
END:VEVENT
END:VCALENDAR
