BEGIN:VCALENDAR
VERSION:2.0
PRODID:-//AudioTheme 2.3.8
BEGIN:VEVENT
UID:urn:uuid:1650115e-6cff-4a8b-a53a-56d97c95eda3
URL:https://mitchmcvicker.com/concerts/gig-4421/
DTSTART;TZID=GMT:20220610T000000
SUMMARY:JJ’s Coffee and Cream
LOCATION:JJ’s Coffee and Cream\, 212 E Howard St\, Hibbing\, MN
END:VEVENT
END:VCALENDAR
