BEGIN:VCALENDAR
VERSION:2.0
PRODID:-//AudioTheme 2.3.8
BEGIN:VEVENT
UID:urn:uuid:4e83e4bc-b678-4bd3-a1ec-97cdf964d140
URL:https://mitchmcvicker.com/concerts/gig-4401/
DTSTART;TZID=GMT:20220525T230000
SUMMARY:Tapestry Community Church
LOCATION:Tapestry Community Church\, 5292 Brownsville Road SE\, Newark\, OH
END:VEVENT
END:VCALENDAR
