BEGIN:VCALENDAR
VERSION:2.0
PRODID:-//AudioTheme 2.3.8
BEGIN:VEVENT
UID:urn:uuid:f5f859de-6a68-47f1-9f25-c26d434525e6
URL:https://mitchmcvicker.com/concerts/gig-4400/
DTSTART;TZID=GMT:20220527T000000
SUMMARY:Creve Coeur Christian Church
LOCATION:Creve Coeur Christian Church\, 101 S. Thorncrest Ave.\, Creve Coeur\, IL
END:VEVENT
END:VCALENDAR
