BEGIN:VCALENDAR
VERSION:2.0
PRODID:-//AudioTheme 2.3.8
BEGIN:VEVENT
UID:urn:uuid:bbb436ba-849c-4882-8f41-1fba4a67ec3b
URL:https://mitchmcvicker.com/concerts/gig-4398/
DTSTART;TZID=GMT:20220528T233000
SUMMARY:Living Waters Fellowship
LOCATION:Living Waters Fellowship\, 501 7th Ave\, Two Harbors\, MN
END:VEVENT
END:VCALENDAR
