BEGIN:VCALENDAR
VERSION:2.0
PRODID:-//AudioTheme 2.3.8
BEGIN:VEVENT
UID:urn:uuid:58c09ae0-1005-4761-894b-712c534bb7ee
URL:https://mitchmcvicker.com/concerts/gig-4395/
DTSTART;TZID=GMT:20220529T230000
SUMMARY:Duluth Gospel Tabernacle
LOCATION:Duluth Gospel Tabernacle\, 1515 W Superior St\, Duluth\, MN
END:VEVENT
END:VCALENDAR
