BEGIN:VCALENDAR
VERSION:2.0
PRODID:-//AudioTheme 2.3.8
BEGIN:VEVENT
UID:urn:uuid:fd02fd6d-5320-467f-8543-ff98b266bced
URL:https://mitchmcvicker.com/concerts/gig-4391/
DTSTART;TZID=GMT:20220505T230000
SUMMARY:St. Matthews Lutheran Church
LOCATION:St. Matthews Lutheran Church\, 9275 Bringle Ferry Rd\, Salisbury\, NC
END:VEVENT
END:VCALENDAR
