BEGIN:VCALENDAR
VERSION:2.0
PRODID:-//AudioTheme 2.3.8
BEGIN:VEVENT
UID:urn:uuid:39a6bf15-d6d5-4aee-8c7e-0819d26b4ffb
URL:https://mitchmcvicker.com/concerts/gig-4390/
DTSTART;TZID=GMT:20220524T230000
SUMMARY:Linesville Presbyterian Church
LOCATION:Linesville Presbyterian Church\, 202 W. Erie St.\, Linesville\, PA
END:VEVENT
END:VCALENDAR
