BEGIN:VCALENDAR
VERSION:2.0
PRODID:-//AudioTheme 2.3.8
BEGIN:VEVENT
UID:urn:uuid:2b9bc7c5-1277-4de5-be46-6ec0ee960e66
URL:https://mitchmcvicker.com/concerts/gig-4387/
DTSTART;TZID=GMT:20220503T230000
SUMMARY:Christ Church
LOCATION:Christ Church\, 970 NY-5\, Schenectady\, NY
END:VEVENT
END:VCALENDAR
