BEGIN:VCALENDAR
VERSION:2.0
PRODID:-//AudioTheme 2.3.8
BEGIN:VEVENT
UID:urn:uuid:6e7b4013-e3a1-40ba-84a1-67ebe8a2161b
URL:https://mitchmcvicker.com/concerts/gig-4385/
DTSTART;TZID=GMT:20220502T230000
SUMMARY:Living Hope Alliance Church -- Benefit for Street Church Ministries (open to the public)
LOCATION:Living Hope Alliance Church -- Benefit for Street Church Ministries (open to the public)\, 401 Farragut Avenue\, Trenton\, NJ
END:VEVENT
END:VCALENDAR
