BEGIN:VCALENDAR
VERSION:2.0
PRODID:-//AudioTheme 2.3.8
BEGIN:VEVENT
UID:urn:uuid:9e5dbb25-cb61-4a6d-a433-a9be08e01ed9
URL:https://mitchmcvicker.com/concerts/gig-4384/
DTSTART;TZID=GMT:20220501T230000
SUMMARY:POSTPONED
LOCATION:POSTPONED\, POSTPONED Woonsocket\, RI
END:VEVENT
END:VCALENDAR
