BEGIN:VCALENDAR
VERSION:2.0
PRODID:-//AudioTheme 2.3.8
BEGIN:VEVENT
UID:urn:uuid:b6a95b2f-1c6a-4ccd-9fb6-b0fde4201d9f
URL:https://mitchmcvicker.com/concerts/gig-4383/
DTSTART;TZID=GMT:20220501T143000
SUMMARY:First Congregational Church
LOCATION:First Congregational Church\, 3 Common St.\, Douglas\, MA
END:VEVENT
END:VCALENDAR
