BEGIN:VCALENDAR
VERSION:2.0
PRODID:-//AudioTheme 2.3.8
BEGIN:VEVENT
UID:urn:uuid:0d7cf747-5369-472c-b98f-cd8a5f0e5392
URL:https://mitchmcvicker.com/concerts/gig-4381/
DTSTART;TZID=GMT:20220430T230000
SUMMARY:Union Church
LOCATION:Union Church\, 3 Elm Street\, Vernon\, CT
END:VEVENT
END:VCALENDAR
