BEGIN:VCALENDAR
VERSION:2.0
PRODID:-//AudioTheme 2.3.8
BEGIN:VEVENT
UID:urn:uuid:c152fe18-ef14-4270-85b5-49c986196f3e
URL:https://mitchmcvicker.com/concerts/gig-4379/
DTSTART;TZID=GMT:20220429T230000
SUMMARY:Cafe at the Mill
LOCATION:Cafe at the Mill\, 45 River St\, Millbury\, MA
END:VEVENT
END:VCALENDAR
