BEGIN:VCALENDAR
VERSION:2.0
PRODID:-//AudioTheme 2.3.8
BEGIN:VEVENT
UID:urn:uuid:728d0650-8431-4768-a03f-9dad077aac42
URL:https://mitchmcvicker.com/concerts/gig-4376/
DTSTART;TZID=GMT:20220427T233000
SUMMARY:Blessed Sacrament Church
LOCATION:Blessed Sacrament Church\, 263 Claremont Ave\, Tonawanda\, NY
END:VEVENT
END:VCALENDAR
