BEGIN:VCALENDAR
VERSION:2.0
PRODID:-//AudioTheme 2.3.8
BEGIN:VEVENT
UID:urn:uuid:e1a77912-1ec8-4591-bb44-f6b2d72d46ed
URL:https://mitchmcvicker.com/concerts/gig-4375/
DTSTART;TZID=GMT:20220415T000000
SUMMARY:Royse City United Methodist Church
LOCATION:Royse City United Methodist Church\, 305 N Josephine St.\, Royse City\, TX
END:VEVENT
END:VCALENDAR
