BEGIN:VCALENDAR
VERSION:2.0
PRODID:-//AudioTheme 2.3.8
BEGIN:VEVENT
UID:urn:uuid:3d117b0c-c0ed-4223-905e-432c5fc54fe3
URL:https://mitchmcvicker.com/concerts/gig-4371/
DTSTART;TZID=GMT:20220413T000000
SUMMARY:Not Your Average Joe
LOCATION:Not Your Average Joe\, 1001 Elm Ave\, Norman\, OK
END:VEVENT
END:VCALENDAR
