BEGIN:VCALENDAR
VERSION:2.0
PRODID:-//AudioTheme 2.3.8
BEGIN:VEVENT
UID:urn:uuid:4a670c64-44e9-46eb-ab01-e64c81ba8f16
URL:https://mitchmcvicker.com/concerts/gig-4369/
DTSTART;TZID=GMT:20220412T010000
SUMMARY:University United Methodist Church
LOCATION:University United Methodist Church\, 1509 S Santa Fe Ave\, Salina\, KS
END:VEVENT
END:VCALENDAR
