BEGIN:VCALENDAR
VERSION:2.0
PRODID:-//AudioTheme 2.3.8
BEGIN:VEVENT
UID:urn:uuid:9c424525-3551-4906-b41d-6f775e82227d
URL:https://mitchmcvicker.com/concerts/gig-4367/
DTSTART;TZID=GMT:20220313T220000
SUMMARY:First Baptist Church of Chickamauga
LOCATION:First Baptist Church of Chickamauga\, 603 W. 7th Street\, Chickamauga\, GA
END:VEVENT
END:VCALENDAR
