BEGIN:VCALENDAR
VERSION:2.0
PRODID:-//AudioTheme 2.3.8
BEGIN:VEVENT
UID:urn:uuid:272978c3-1a6d-4968-ba93-53e1f8f93566
URL:https://mitchmcvicker.com/concerts/gig-4364/
DTSTART;TZID=GMT:20220312T000000
SUMMARY:Mt. Hermon Lutheran Church
LOCATION:Mt. Hermon Lutheran Church\, 3011 Leaphart Rd.\, West Columbia\, SC
END:VEVENT
END:VCALENDAR
