BEGIN:VCALENDAR
VERSION:2.0
PRODID:-//AudioTheme 2.3.8
BEGIN:VEVENT
UID:urn:uuid:db8650d7-c0bf-4eb5-ad85-13f1339bacf8
URL:https://mitchmcvicker.com/concerts/gig-4360/
DTSTART;TZID=GMT:20220309T230000
SUMMARY:Community Fellowship Church
LOCATION:Community Fellowship Church\, 1051 N Jackson Pike\, Union City\, IN
END:VEVENT
END:VCALENDAR
