BEGIN:VCALENDAR
VERSION:2.0
PRODID:-//AudioTheme 2.3.8
BEGIN:VEVENT
UID:urn:uuid:ca6c62d2-9a53-4be1-8829-37abf2a5112a
URL:https://mitchmcvicker.com/concerts/gig-4358/
DTSTART;TZID=GMT:20220306T190000
SUMMARY:McLeod's Coffee House
LOCATION:McLeod's Coffee House\, 376 Southland Dr.\, Lexington\, KY
END:VEVENT
END:VCALENDAR
