BEGIN:VCALENDAR
VERSION:2.0
PRODID:-//AudioTheme 2.3.8
BEGIN:VEVENT
UID:urn:uuid:87a909f9-cced-42d2-88b6-e209f87cf6d9
URL:https://mitchmcvicker.com/concerts/gig-4356/
DTSTART;TZID=GMT:20220305T230000
SUMMARY:North United Methodist Church
LOCATION:North United Methodist Church\, 3808 N. Meridian St.\, Indianapolis\, IN
END:VEVENT
END:VCALENDAR
