BEGIN:VCALENDAR
VERSION:2.0
PRODID:-//AudioTheme 2.3.8
BEGIN:VEVENT
UID:urn:uuid:56524bea-5c41-4af0-b9df-4058779166f2
URL:https://mitchmcvicker.com/concerts/gig-4354/
DTSTART;TZID=GMT:20220305T000000
SUMMARY:First Church of God
LOCATION:First Church of God\, 1016 W. Mill St.\, Middletown\, IN
END:VEVENT
END:VCALENDAR
