BEGIN:VCALENDAR
VERSION:2.0
PRODID:-//AudioTheme 2.3.8
BEGIN:VEVENT
UID:urn:uuid:0e8b5627-e0c5-49f2-8246-50a78bad1260
URL:https://mitchmcvicker.com/concerts/gig-4353/
DTSTART;TZID=GMT:20220304T000000
SUMMARY:Riverside Christian Church
LOCATION:Riverside Christian Church\, 15413 SR 49\, Antwerp\, OH\, USA
END:VEVENT
END:VCALENDAR
