BEGIN:VCALENDAR
VERSION:2.0
PRODID:-//AudioTheme 2.3.8
BEGIN:VEVENT
UID:urn:uuid:c7de8729-2bf0-427a-9cc0-371fe4e2b5b8
URL:https://mitchmcvicker.com/concerts/gig-4319/
DTSTART;TZID=GMT:20211129T000000
SUMMARY:Batesville Christian Church
LOCATION:Batesville Christian Church\, 1294 Columbus Ave.\, Batesville\, IN
END:VEVENT
END:VCALENDAR
