BEGIN:VCALENDAR
VERSION:2.0
PRODID:-//AudioTheme 2.3.8
BEGIN:VEVENT
UID:urn:uuid:4239c739-0710-4323-90ff-b7431286e735
URL:https://mitchmcvicker.com/concerts/gig-4315/
DTSTART;TZID=GMT:20211031T220000
SUMMARY:First Church of God
LOCATION:First Church of God\, 1016 W. Mill St.\, Middletown\, IN
END:VEVENT
END:VCALENDAR
