BEGIN:VCALENDAR
VERSION:2.0
PRODID:-//AudioTheme 2.3.8
BEGIN:VEVENT
UID:urn:uuid:efe89886-f173-4858-9a36-57c3ba48298b
URL:https://mitchmcvicker.com/concerts/gig-4312/
DTSTART;TZID=GMT:20210929T010000
SUMMARY:Lamar High School
LOCATION:Lamar High School\, 1900 South 11th Street\, Lamar\, CO
END:VEVENT
END:VCALENDAR
