BEGIN:VCALENDAR
VERSION:2.0
PRODID:-//AudioTheme 2.3.8
BEGIN:VEVENT
UID:urn:uuid:e87d280e-31c4-4564-b8d5-c81d93c04125
URL:https://mitchmcvicker.com/concerts/gig-4308/
DTSTART;TZID=GMT:20210827T230000
SUMMARY:Deer Run Church of Christ
LOCATION:Deer Run Church of Christ\, 2730 S. Ironwood Dr.\, South Bend\, IN\, USA\, 46614
END:VEVENT
END:VCALENDAR
