BEGIN:VCALENDAR
VERSION:2.0
PRODID:-//AudioTheme 2.3.8
BEGIN:VEVENT
UID:urn:uuid:1bebc083-766d-4279-b566-66bbe8fc3b63
URL:https://mitchmcvicker.com/concerts/gig-4301/
DTSTART;TZID=GMT:20210910T230000
SUMMARY:Limar's Farm and Nursery
LOCATION:Limar's Farm and Nursery\, 1167 Noxon Road\, Lagrangeville\, NY
END:VEVENT
END:VCALENDAR
