BEGIN:VCALENDAR
VERSION:2.0
PRODID:-//AudioTheme 2.3.8
BEGIN:VEVENT
UID:urn:uuid:541405bc-9870-4b59-a911-64fce359a7ca
URL:https://mitchmcvicker.com/concerts/gig-4297/
DTSTART;TZID=GMT:20210829T233000
SUMMARY:Church on the Rock
LOCATION:Church on the Rock\, 1401 N. High St.\, Fort Atkinson\, WI
END:VEVENT
END:VCALENDAR
