BEGIN:VCALENDAR
VERSION:2.0
PRODID:-//AudioTheme 2.3.8
BEGIN:VEVENT
UID:urn:uuid:a6175b58-09da-4707-978c-4dc69e6dc68a
URL:https://mitchmcvicker.com/concerts/gig-4295/
DTSTART;TZID=GMT:20211128T000000
SUMMARY:Stonebridge Community Church
LOCATION:Stonebridge Community Church\, 105 E. Greene St.\, Piqua\, OH
END:VEVENT
END:VCALENDAR
