BEGIN:VCALENDAR
VERSION:2.0
PRODID:-//AudioTheme 2.3.8
BEGIN:VEVENT
UID:urn:uuid:a47fa346-547a-4864-acce-69f290b18776
URL:https://mitchmcvicker.com/concerts/gig-4294/
DTSTART;TZID=GMT:20210801T150000
SUMMARY:Clemons United Church of Christ
LOCATION:Clemons United Church of Christ\, 301 Maple Street\, Clemons\, IA\, 50051
END:VEVENT
END:VCALENDAR
